BEGIN:VCALENDAR
VERSION:2.0
PRODID:-//Library Market//iCal Export//EN
BEGIN:VEVENT
SUMMARY:Caregiver Lecture hosted by the Ken Hamilton Caregivers Center
UID:9586
DTSTAMP:20260424T000300Z
DTSTART:20260423T190000Z
DTEND:20260423T200000Z
LOCATION:Katonah Village Library, 26 Bedford Rd, Katonah, NY 10536, United
  States
ROOM: Garden Room
DESCRIPTION:The Ken Hamilton Caregivers Center from NorthernWestchester Ho
 spital is joining Katonah Village Libraryto host an informative event. Joi
 n us to learn about theresources available to all family caregivers in the
 community.
URL:https://katonah.librarycalendar.com/event/caregiver-lecture-9586
END:VEVENT
END:VCALENDAR
