BEGIN:VCALENDAR
VERSION:2.0
PRODID:-//Library Market//iCal Export//EN
BEGIN:VEVENT
SUMMARY:Feelings Funtime
UID:9331
DTSTAMP:20260424T000300Z
DTSTART:20260501T150000Z
DTEND:20260501T153000Z
LOCATION:Katonah Village Library, 26 Bedford Rd, Katonah, NY 10536, United
  States
ROOM: Meeting Room
DESCRIPTION:Join us for this fun-filled exploration of emotions. Each week
  we will share a story and craft relating to one of our many varied feelin
 gs. No registration required.
URL:https://katonah.librarycalendar.com/event/feelings-funtime-9331
END:VEVENT
END:VCALENDAR
