BEGIN:VCALENDAR
VERSION:2.0
PRODID:-//Library Market//iCal Export//EN
BEGIN:VEVENT
SUMMARY:Mother Goose - Session 1 - NEW TIME!
UID:8908
DTSTAMP:20260420T013300Z
DTSTART:20260506T141500Z
DTEND:20260506T144500Z
LOCATION:Katonah Village Library, 26 Bedford Rd, Katonah, NY 10536, United
  States
ROOM: Meeting Room
DESCRIPTION:Come join the fun at our popular Mother Goose program!Choose o
 ne session, 10:15 or 11am. Each session will be limited to 15 kids (plus a
 dults.) 
URL:https://katonah.librarycalendar.com/event/mother-goose-session-1-new-t
 ime-8908
END:VEVENT
END:VCALENDAR
